BEGIN:VCALENDAR
VERSION:2.0
PRODID:-//ChamberMaster//Event Calendar 2.0//EN
METHOD:PUBLISH
X-PUBLISHED-TTL:P1H
REFRESH-INTERVAL:P1H
CALSCALE:GREGORIAN
BEGIN:VTIMEZONE
TZID:America/New_York
BEGIN:DAYLIGHT
RRULE:FREQ=YEARLY;BYMONTH=3;BYDAY=2SU
DTSTART:20070101T000000
TZOFFSETFROM:-0500
TZOFFSETTO:-0400
TZNAME:Eastern Daylight Time
END:DAYLIGHT
BEGIN:STANDARD
RRULE:FREQ=YEARLY;BYMONTH=11;BYDAY=1SU
DTSTART:20070101T000000
TZOFFSETFROM:-0400
TZOFFSETTO:-0500
TZNAME:Eastern Standard Time
END:STANDARD
END:VTIMEZONE
BEGIN:VEVENT
DTSTART;TZID=America/New_York:20260513T083000
DTEND;TZID=America/New_York:20260513T093000
X-MICROSOFT-CDO-ALLDAYEVENT:FALSE
SUMMARY:Coffee & Connections with Partner's Capital at the Chamber
DESCRIPTION:Join us on Wednesday\, May 13th\, from 8:30-9:30 AM for Coffee and Connections with Partner's Capital at the Chamber\, located at 961687 Gateway Blvd\, Suite 101-G\, Fernandina Beach. Stop by\, network with fellow Chamber members\, and enjoy delicious coffee!Coffee & Connections is free for Chamber members and $25.00 for prospective members. Advanced payment and registration are always preferred. For questions or more information\, please email info@NassauCountyFLChamber.com or call (904) 261-3248. Are you interested in joining the Nassau County Chamber of Commerce? Have questions? Contact the Chamber at (904) 261-3248 or at Info@nassaucountyflchamber.com for information.To sign up for text message reminders\, click here.
X-ALT-DESC;FMTTYPE=text/html:<!DOCTYPE html><html><head><title></title></head><body aria-disabled="false"><p><span style="font-size:14px\;"><span style="color:#333333\;">Join us on <strong fr-original-style="" style="font-weight: 700\;">Wednesday\, May 13th\, from 8:30-9:30 AM</strong> for Coffee and Connections with&nbsp\;</span></span><a fr-original-style="" href="https://business.nassaucountyflchamber.com/member-directory/Details/partners-capital-llc-4203558" style="user-select: auto\;"><span style="font-size:14px\;"><span style="color: rgb(19\, 130\, 176)\;"><strong fr-original-style="" style="font-weight: 700\;">Partner&#39\;s Capital</strong></span></span></a><span style="font-size:14px\;"><span style="color:#333333\;">&nbsp\;at the </span></span><a fr-original-style="" href="https://www.nassaucountyflchamber.com/" style="user-select: auto\;"><span style="font-size:14px\;"><span style="color: rgb(19\, 130\, 176)\;"><strong fr-original-style="" style="font-weight: 700\;">Chamber</strong></span></span></a><font color="#333333"><span style="font-size: 14px\;">\, located at 961687 Gateway Blvd\, Suite 101-G\, Fernandina Beach.</span></font><strong fr-original-style="color: rgb(51\, 51\, 51)\; font-size: 14px\;" style="color: rgb(51\, 51\, 51)\; font-size: 14px\; font-weight: 700\;">&nbsp\;</strong><font color="#333333"><span style="font-size: 14px\;">Stop by\, network with fellow Chamber members\, and enjoy delicious coffee!</span></font></p><p><span style="font-size:14px\;"><span style="color:#333333\;">Coffee &amp\; Connections is free for Chamber members and $25.00 for prospective members. Advanced payment and registration are always preferred. For questions or more information\, please email</span><span style="color: rgb(19\, 130\, 176)\;">&nbsp\;<strong fr-original-style="" style="font-weight: 700\;"><a data-cke-saved-href="mailto:info@nassaucountyflchamber.com" fr-original-style="" href="mailto:info@nassaucountyflchamber.com" style="user-select: auto\; color: inherit\;"><span style="color:1382b0\;">info@NassauCountyFLChamber.com</span></a></strong>&nbsp\;</span><span style="color:#333333\;">or call (904) 261-3248.&nbsp\;</span></span></p><hr fr-original-style="" style="clear: both\; user-select: none\; break-after: page\;"><p><span style="font-size:14px\;"><span style="color:#333333\;">Are you interested in joining the Nassau County Chamber of Commerce? Have questions? Contact the Chamber at (904) 261-3248 or at&nbsp\;</span><span style="color: rgb(19\, 130\, 176)\;"><a data-cke-saved-href="mailto:Cathy@nassaucountyflchamber.com" fr-original-style="" href="mailto:Info@nassaucountyflchamber.com" style="user-select: auto\; color: inherit\;"><span style="color:1382b0\;"><strong fr-original-style="" style="font-weight: 700\;">Info@nassaucountyflchamber.com</strong></span></a></span><span style="color:#333333\;">&nbsp\;for information.</span></span></p><p><span style="font-size:14px\;"><strong fr-original-style="" style="font-weight: 700\;"><span style="color:#333333\;">To sign up for text message reminders\,&nbsp\;</span><span style="color: rgb(19\, 130\, 176)\;"><a data-cke-saved-href="http://mobile-text-alerts.com/NassauCountyChamber" fr-original-style="" href="http://mobile-text-alerts.com/NassauCountyChamber" style="user-select: auto\; color: inherit\;">click here</a>.</span></strong></span></p></body></html>
LOCATION:961687 Gateway Blvd. Suite 101-G Fernandina Beach FL 32034
UID:e.3552.1437087
SEQUENCE:3
DTSTAMP:20260421T131240Z
URL:https://business.nassaucountyflchamber.com/chambereventscalendar/Details/coffee-connections-with-partner-s-capital-at-the-chamber-1701051?sourceTypeId=Hub
END:VEVENT
END:VCALENDAR
