BEGIN:VCALENDAR
VERSION:2.0
PRODID:-//ChamberMaster//Event Calendar 2.0//EN
METHOD:PUBLISH
X-PUBLISHED-TTL:P1H
REFRESH-INTERVAL:P1H
CALSCALE:GREGORIAN
BEGIN:VTIMEZONE
TZID:America/New_York
BEGIN:DAYLIGHT
RRULE:FREQ=YEARLY;BYMONTH=3;BYDAY=2SU
DTSTART:20070101T000000
TZOFFSETFROM:-0500
TZOFFSETTO:-0400
TZNAME:Eastern Daylight Time
END:DAYLIGHT
BEGIN:STANDARD
RRULE:FREQ=YEARLY;BYMONTH=11;BYDAY=1SU
DTSTART:20070101T000000
TZOFFSETFROM:-0400
TZOFFSETTO:-0500
TZNAME:Eastern Standard Time
END:STANDARD
END:VTIMEZONE
BEGIN:VEVENT
DTSTART;TZID=America/New_York:20260520T113000
DTEND;TZID=America/New_York:20260520T130000
X-MICROSOFT-CDO-ALLDAYEVENT:FALSE
SUMMARY:Westside Luncheon at Junior's Seafood Restaurant & Grill
DESCRIPTION:Open to all Nassau County Chamber Members\, we invite you to our monthly Westside Luncheon. Encouraging ALL Chamber Members to attend and strengthen business relationships throughout the County in a relaxed setting. Join us on Wednesday\, May 20th\, from 11:30-1:00 PM for this month's Westside Luncheon. This month's luncheon will be held at Junior's Seafood Restaurant & Grill\, located at 450061 State Road 200 in Callahan. Attendees will enjoy time for short introductions to the group and casual networking over their lunch break (payment for lunch due upon ordering at location).    Cost Members: LunchNon-Members: $25 + LunchThe Westside Luncheon is free for Chamber members\, with the responsibility of paying for your own lunch\, and an additional $25.00 for prospective members to be deducted from dues should you choose to join within seven (7) days. Limit of three (3) Prospective Member registrations prior to joining. Advanced payment and registration are always preferred. To attend events either at no cost or at a reduced rate\, your employer must be a current member of the Chamber\, and you must be listed as a bona fide contact for that business. Nonprofit organizations with paid employees may designate those employees as contacts to attend events\; nonprofits run solely by volunteers may designate only one contact to attend events.Are you interested in joining the Nassau County Chamber of Commerce? Have questions? Contact the Chamber at (904) 261-3248 or at Info@NassauCountyFLChamber.com for information.  To sign up for text message reminders\, click here.
X-ALT-DESC;FMTTYPE=text/html:<!DOCTYPE html><html><head><title></title></head><body aria-disabled="false"><p><span style="color:#333333\;"><span style="font-size:14px\;"><strong fr-original-style="" style="font-weight: 700\;">Open to all Nassau County Chamber Members</strong>\, we invite you to our monthly Westside Luncheon. Encouraging ALL Chamber Members to attend and strengthen business relationships throughout the County in a relaxed setting.&nbsp\;</span></span></p><p><span style="color:#333333\;"><span style="font-size: 14px\;">Join us on <strong fr-original-style="" style="font-weight: 700\;">Wednesday\, May 20th\,</strong> from <strong fr-original-style="" style="font-weight: 700\;">11:30-1:00 PM</strong> for this month&#39\;s <strong fr-original-style="" style="font-weight: 700\;">Westside Luncheon.</strong>&nbsp\;</span></span><span style="font-size:14px\;"><span style="color:#333333\;">This month&#39\;s luncheon will be held at&nbsp\;</span><span style="color: rgb(19\, 130\, 176)\;"><a data-cke-saved-href="https://web.islandchamber.com/Restaurants/Junior%27s-Seafood-Restaurant-and-Grill-Callahan-31359" fr-original-style="" href="https://business.islandchamber.com/member-directory/Details/junior-s-seafood-restaurant-and-grill-callahan-2913103" rel="noopener noreferrer" style="user-select: auto\; color: inherit\;" target="_blank"><span style="color:1382b0\;"><strong fr-original-style="" style="font-weight: 700\;">Junior&#39\;s Seafood Restaurant &amp\; Grill</strong></span></a></span><span style="color:#333333\;">\, located at 450061 State Road 200 in Callahan.&nbsp\;</span></span></p><p style="text-align: left\;"><span style="color:#333333\;"><span style="font-size:14px\;">Attendees will</span><span style="font-size: 14px\;">&nbsp\;enjoy time for short introductions to the group and casual networking over their lunch break (payment for lunch due upon ordering at location).&nbsp\;</span></span>&nbsp\; &nbsp\;</p><p><strong fr-original-style="" style="font-weight: 700\;"><span style="color:#333333\;"><span style="font-size:14px\;"><u>Cost&nbsp\;</u></span></span></strong></p><p><strong fr-original-style="" style="font-weight: 700\;"><span style="color:#333333\;"><span style="font-size:14px\;">Members: Lunch</span></span></strong></p><p><strong fr-original-style="" style="font-weight: 700\;"><span style="color:#333333\;"><span style="font-size:14px\;">Non-Members: $25 + Lunch</span></span></strong></p><p><span style="color:#333333\;"><span style="font-size:14px\;">The Westside Luncheon is free for Chamber members\, with the responsibility of paying for your own lunch\, and an additional $25.00 for prospective members to be deducted from dues should you choose to join within seven (7) days. Limit of three (3) Prospective Member registrations prior to joining. <strong fr-original-style="" style="font-weight: 700\;"><em>Advanced payment and registration are always preferred.</em></strong>&nbsp\;</span></span></p><hr style="text-align: left\; clear: both\; user-select: none\; break-after: page\;" fr-original-style="text-align: left\;"><p style="text-align: left\;"><em><span style="color:#333333\;"><span style="font-size:14px\;">To attend events either at no cost or at a reduced rate\, your employer must be a current member of the Chamber\, <strong fr-original-style="" style="font-weight: 700\;"><u>and</u>&nbsp\;</strong>you must be listed as a bona fide contact for that business. Nonprofit organizations with paid employees may designate those employees as contacts to attend events\; nonprofits run solely by volunteers may designate only <strong fr-original-style="" style="font-weight: 700\;"><u>one</u>&nbsp\;</strong>contact to attend events.</span></span></em></p><div style="text-align: left\;"><span style="font-size:14px\;"><span style="color:#333333\;"><strong fr-original-style="" style="font-weight: 700\;">Are you interested in joining the Nassau County Chamber of Commerce?&nbsp\;</strong>Have questions?&nbsp\;</span></span></div><div style="text-align: left\;"><span style="font-size:14px\;"><span style="color:#333333\;">Contact the Chamber at (904) 261-3248 or at&nbsp\;</span><span style="color: rgb(19\, 130\, 176)\;"><strong fr-original-style="" style="font-weight: 700\;"><a data-cke-saved-href="mailto:Cathy@nassaucountyflchamber.com" fr-original-style="" href="mailto:Info@nassaucountyflchamber.com" style="user-select: auto\; color: inherit\;">Info@NassauCountyFLChamber.com</a></strong></span><span style="color:#333333\;">&nbsp\;for information. &nbsp\;</span></span></div><hr fr-original-style="" style="clear: both\; user-select: none\; break-after: page\;"><p><span style="font-size:14px\;"><strong fr-original-style="" style="font-weight: 700\;"><span style="color:#333333\;">To sign up for text message reminders\,&nbsp\;</span><span style="color: rgb(19\, 130\, 176)\;"><a data-cke-saved-href="http://mobile-text-alerts.com/NassauCountyChamber" fr-original-style="" href="http://mobile-text-alerts.com/NassauCountyChamber" style="user-select: auto\; color: inherit\;"><span style="color:1382b0\;">click here</span></a></span><span style="color:#333333\;">.</span></strong></span></p></body></html>
LOCATION:450061 SR-200 Callahan FL 32011
UID:e.3552.1437339
SEQUENCE:3
DTSTAMP:20260421T131258Z
URL:https://business.nassaucountyflchamber.com/chambereventscalendar/Details/westside-luncheon-at-junior-s-seafood-restaurant-grill-1701279?sourceTypeId=Hub
END:VEVENT
END:VCALENDAR
